BEGIN:VCALENDAR
VERSION:2.0
PRODID:-//wp-events-plugin.com//7.2.3.1//EN
TZID:Europe/Madrid
X-WR-TIMEZONE:Europe/Madrid
BEGIN:VEVENT
UID:109@aproformacion.com
DTSTART;TZID=Europe/Madrid:20251126T080000
DTEND;TZID=Europe/Madrid:20251126T140000
DTSTAMP:20251105T124329Z
URL:https://aproformacion.com/events/6h-carpinteria-metalica-8/
SUMMARY:6H Carpintería metálica
DESCRIPTION:6H Carpintería metálica\n• 26/11 – Especialidad carpinter
 ía metálica – 08:00 a 14:00
END:VEVENT
BEGIN:VTIMEZONE
TZID:Europe/Madrid
X-LIC-LOCATION:Europe/Madrid
BEGIN:STANDARD
DTSTART:20251026T020000
TZOFFSETFROM:+0200
TZOFFSETTO:+0100
TZNAME:CET
END:STANDARD
END:VTIMEZONE
END:VCALENDAR