BEGIN:VCALENDAR
VERSION:2.0
PRODID:-//wp-events-plugin.com//7.2.3.1//EN
TZID:Europe/Madrid
X-WR-TIMEZONE:Europe/Madrid
BEGIN:VEVENT
UID:59@aproformacion.com
DTSTART;TZID=Europe/Madrid:20250926T130000
DTEND;TZID=Europe/Madrid:20250926T190000
DTSTAMP:20250905T102451Z
URL:https://aproformacion.com/events/6h-electricidad-3/
SUMMARY:6H ELECTRICIDAD
DESCRIPTION:6H ELECTRICIDAD\n\n26/09/2025 DE 13:00 A 19:00
END:VEVENT
BEGIN:VTIMEZONE
TZID:Europe/Madrid
X-LIC-LOCATION:Europe/Madrid
BEGIN:DAYLIGHT
DTSTART:20250330T030000
TZOFFSETFROM:+0100
TZOFFSETTO:+0200
TZNAME:CEST
END:DAYLIGHT
END:VTIMEZONE
END:VCALENDAR