BEGIN:VCALENDAR
VERSION:2.0
PRODID:-//wp-events-plugin.com//7.2.3.1//EN
TZID:Europe/Madrid
X-WR-TIMEZONE:Europe/Madrid
BEGIN:VEVENT
UID:133@aproformacion.com
DTSTART;TZID=Europe/Madrid:20251218T090000
DTEND;TZID=Europe/Madrid:20251218T150000
DTSTAMP:20251125T090249Z
URL:https://aproformacion.com/events/6h-electricidad-5/
SUMMARY:6H Electricidad
DESCRIPTION:6H Electricidad\n• 18/12 – Especialidad Electricidad – 09
 :00 A 15:00
END:VEVENT
BEGIN:VTIMEZONE
TZID:Europe/Madrid
X-LIC-LOCATION:Europe/Madrid
BEGIN:STANDARD
DTSTART:20251026T020000
TZOFFSETFROM:+0200
TZOFFSETTO:+0100
TZNAME:CET
END:STANDARD
END:VTIMEZONE
END:VCALENDAR