BEGIN:VCALENDAR
VERSION:2.0
PRODID:-//wp-events-plugin.com//7.2.3.1//EN
TZID:Europe/Madrid
X-WR-TIMEZONE:Europe/Madrid
BEGIN:VEVENT
UID:178@aproformacion.com
DTSTART;TZID=Europe/Madrid:20260119T150000
DTEND;TZID=Europe/Madrid:20260119T180000
DTSTAMP:20260113T173407Z
URL:https://aproformacion.com/events/6h-electricidad-6/
SUMMARY:6H Electricidad
DESCRIPTION:6H Electricidad\n\n19/01 – Especialidad electricidad – 15:0
 0 a 18:00\n20/01 – Especialidad electricidad – 15:00 a 18:00
END:VEVENT
BEGIN:VTIMEZONE
TZID:Europe/Madrid
X-LIC-LOCATION:Europe/Madrid
BEGIN:STANDARD
DTSTART:20251026T020000
TZOFFSETFROM:+0200
TZOFFSETTO:+0100
TZNAME:CET
END:STANDARD
END:VTIMEZONE
END:VCALENDAR