BEGIN:VCALENDAR
VERSION:2.0
PRODID:-//wp-events-plugin.com//7.2.3.1//EN
TZID:Europe/Madrid
X-WR-TIMEZONE:Europe/Madrid
BEGIN:VEVENT
UID:13@aproformacion.com
DTSTART;TZID=Europe/Madrid:20250829T080000
DTEND;TZID=Europe/Madrid:20250829T140000
DTSTAMP:20250730T111907Z
URL:https://aproformacion.com/events/6h-especialidad-albanileria/
SUMMARY:6H ESPECIALIDAD  ALBAÑILERIA
DESCRIPTION:🧱 6H Especialidad PRL Albañilería\n\n 	29/08/2025 – 08:0
 0 a 14:0008\n
END:VEVENT
BEGIN:VTIMEZONE
TZID:Europe/Madrid
X-LIC-LOCATION:Europe/Madrid
BEGIN:DAYLIGHT
DTSTART:20250330T030000
TZOFFSETFROM:+0100
TZOFFSETTO:+0200
TZNAME:CEST
END:DAYLIGHT
END:VTIMEZONE
END:VCALENDAR