BEGIN:VCALENDAR
VERSION:2.0
PRODID:-//wp-events-plugin.com//7.2.3.1//EN
TZID:Europe/Madrid
X-WR-TIMEZONE:Europe/Madrid
BEGIN:VEVENT
UID:21@aproformacion.com
DTSTART;TZID=Europe/Madrid:20250822T080000
DTEND;TZID=Europe/Madrid:20250822T140000
DTSTAMP:20250818T151514Z
URL:https://aproformacion.com/events/6h-especialidad-prl-impermeabilizacio
 n/
SUMMARY:6H Especialidad PRL Impermeabilización
DESCRIPTION:💧 6H Especialidad PRL Impermeabilización\n• 22/07 – 08:
 00 a 14:00
END:VEVENT
BEGIN:VTIMEZONE
TZID:Europe/Madrid
X-LIC-LOCATION:Europe/Madrid
BEGIN:DAYLIGHT
DTSTART:20250330T030000
TZOFFSETFROM:+0100
TZOFFSETTO:+0200
TZNAME:CEST
END:DAYLIGHT
END:VTIMEZONE
END:VCALENDAR