BEGIN:VCALENDAR
VERSION:2.0
PRODID:-//wp-events-plugin.com//7.2.3.1//EN
TZID:Europe/Madrid
X-WR-TIMEZONE:Europe/Madrid
BEGIN:VEVENT
UID:18@aproformacion.com
DTSTART;TZID=Europe/Madrid:20250804T080000
DTEND;TZID=Europe/Madrid:20250804T140000
DTSTAMP:20250730T112822Z
URL:https://aproformacion.com/events/6h-explanadas-y-extendidos/
SUMMARY:6H Explanadas y Extendidos
DESCRIPTION:🚜 6H Explanadas y Extendidos\n\n 	04/08/2025 – 08:00 a 14:
 00\n
END:VEVENT
BEGIN:VTIMEZONE
TZID:Europe/Madrid
X-LIC-LOCATION:Europe/Madrid
BEGIN:DAYLIGHT
DTSTART:20250330T030000
TZOFFSETFROM:+0100
TZOFFSETTO:+0200
TZNAME:CEST
END:DAYLIGHT
END:VTIMEZONE
END:VCALENDAR