BEGIN:VCALENDAR
VERSION:2.0
PRODID:-//wp-events-plugin.com//7.2.3.1//EN
TZID:Europe/Madrid
X-WR-TIMEZONE:Europe/Madrid
BEGIN:VEVENT
UID:148@aproformacion.com
DTSTART;TZID=Europe/Madrid:20251212T083000
DTEND;TZID=Europe/Madrid:20251212T143000
DTSTAMP:20251202T165553Z
URL:https://aproformacion.com/events/6h-fontaneria-2/
SUMMARY:6H Fontanería
DESCRIPTION:6H Fontanería\n• 12/12 – Especialidad Fontanería – 08:3
 0 A 14:30
END:VEVENT
BEGIN:VTIMEZONE
TZID:Europe/Madrid
X-LIC-LOCATION:Europe/Madrid
BEGIN:STANDARD
DTSTART:20251026T020000
TZOFFSETFROM:+0200
TZOFFSETTO:+0100
TZNAME:CET
END:STANDARD
END:VTIMEZONE
END:VCALENDAR