BEGIN:VCALENDAR
VERSION:2.0
PRODID:-//wp-events-plugin.com//7.2.3.1//EN
TZID:Europe/Madrid
X-WR-TIMEZONE:Europe/Madrid
BEGIN:VEVENT
UID:191@aproformacion.com
DTSTART;TZID=Europe/Madrid:20260206T090000
DTEND;TZID=Europe/Madrid:20260206T150000
DTSTAMP:20260130T132230Z
URL:https://aproformacion.com/events/6h-fontaneria-4/
SUMMARY:6H Fontanería
DESCRIPTION:6H Fontanería \n\n06/02 – Especialidad fontanería – 09:00
  a 15:00
END:VEVENT
BEGIN:VTIMEZONE
TZID:Europe/Madrid
X-LIC-LOCATION:Europe/Madrid
BEGIN:STANDARD
DTSTART:20251026T020000
TZOFFSETFROM:+0200
TZOFFSETTO:+0100
TZNAME:CET
END:STANDARD
END:VTIMEZONE
END:VCALENDAR