BEGIN:VCALENDAR
VERSION:2.0
PRODID:-//wp-events-plugin.com//7.2.3.1//EN
TZID:Europe/Madrid
X-WR-TIMEZONE:Europe/Madrid
BEGIN:VEVENT
UID:291@aproformacion.com
DTSTART;TZID=Europe/Madrid:20260422T140000
DTEND;TZID=Europe/Madrid:20260422T200000
DTSTAMP:20260420T074909Z
URL:https://aproformacion.com/events/6h-fontaneria-9/
SUMMARY:6H Fontanería
DESCRIPTION:🚰6H Fontanería\n\n22/04 – Especialidad fontanería 14:00 
 a 20:00
END:VEVENT
BEGIN:VTIMEZONE
TZID:Europe/Madrid
X-LIC-LOCATION:Europe/Madrid
BEGIN:DAYLIGHT
DTSTART:20260329T030000
TZOFFSETFROM:+0100
TZOFFSETTO:+0200
TZNAME:CEST
END:DAYLIGHT
END:VTIMEZONE
END:VCALENDAR