BEGIN:VCALENDAR
VERSION:2.0
PRODID:-//wp-events-plugin.com//7.2.3.1//EN
TZID:Europe/Madrid
X-WR-TIMEZONE:Europe/Madrid
BEGIN:VEVENT
UID:68@aproformacion.com
DTSTART;TZID=Europe/Madrid:20251016T083000
DTEND;TZID=Europe/Madrid:20251016T143000
DTSTAMP:20250925T160545Z
URL:https://aproformacion.com/events/6h-fontaneria-y-climatizacion/
SUMMARY:6H Fontanería y climatización
DESCRIPTION:6H Fontanería y climatización\n• 16/10 – Especialidad car
 pintería metálica – 08:30 a 14:30
END:VEVENT
BEGIN:VTIMEZONE
TZID:Europe/Madrid
X-LIC-LOCATION:Europe/Madrid
BEGIN:DAYLIGHT
DTSTART:20250330T030000
TZOFFSETFROM:+0100
TZOFFSETTO:+0200
TZNAME:CEST
END:DAYLIGHT
END:VTIMEZONE
END:VCALENDAR