BEGIN:VCALENDAR
VERSION:2.0
PRODID:-//wp-events-plugin.com//7.2.3.1//EN
TZID:Europe/Madrid
X-WR-TIMEZONE:Europe/Madrid
BEGIN:VEVENT
UID:169@aproformacion.com
DTSTART;TZID=Europe/Madrid:20260119T090000
DTEND;TZID=Europe/Madrid:20260119T150000
DTSTAMP:20260107T121026Z
URL:https://aproformacion.com/events/6h-impermeabilizacion-10/
SUMMARY:6H Impermeabilización
DESCRIPTION:6H Impermeabilización\n• 19/01 – Impermeabilización – 0
 9:00 a 15:00
END:VEVENT
BEGIN:VTIMEZONE
TZID:Europe/Madrid
X-LIC-LOCATION:Europe/Madrid
BEGIN:STANDARD
DTSTART:20251026T020000
TZOFFSETFROM:+0200
TZOFFSETTO:+0100
TZNAME:CET
END:STANDARD
END:VTIMEZONE
END:VCALENDAR