BEGIN:VCALENDAR
VERSION:2.0
PRODID:-//wp-events-plugin.com//7.2.3.1//EN
TZID:Europe/Madrid
X-WR-TIMEZONE:Europe/Madrid
BEGIN:VEVENT
UID:158@aproformacion.com
DTSTART;TZID=Europe/Madrid:20251224T080000
DTEND;TZID=Europe/Madrid:20251224T140000
DTSTAMP:20251202T170255Z
URL:https://aproformacion.com/events/6h-montador-de-escayola-y-placas-de-y
 eso-laminado/
SUMMARY:6H Montador de escayola y placas de yeso laminado
DESCRIPTION:6H Montador de escayola y placas de yeso laminado\n• 24/12 
 – Especialidad Montador de escayola y placas de yeso laminado – 08:00 
 a 14:00
END:VEVENT
BEGIN:VTIMEZONE
TZID:Europe/Madrid
X-LIC-LOCATION:Europe/Madrid
BEGIN:STANDARD
DTSTART:20251026T020000
TZOFFSETFROM:+0200
TZOFFSETTO:+0100
TZNAME:CET
END:STANDARD
END:VTIMEZONE
END:VCALENDAR