BEGIN:VCALENDAR
VERSION:2.0
PRODID:-//wp-events-plugin.com//7.2.3.1//EN
TZID:Europe/Madrid
X-WR-TIMEZONE:Europe/Madrid
BEGIN:VEVENT
UID:77@aproformacion.com
DTSTART;TZID=Europe/Madrid:20251014T083000
DTEND;TZID=Europe/Madrid:20251014T143000
DTSTAMP:20250925T161512Z
URL:https://aproformacion.com/events/6h-movimiento-de-tierras-2/
SUMMARY:6H Movimiento de tierras
DESCRIPTION:6H Movimiento de tierras\n\n• 14/10 – Especialidad Movimien
 to de tierras – 08:30 a 14:30
END:VEVENT
BEGIN:VTIMEZONE
TZID:Europe/Madrid
X-LIC-LOCATION:Europe/Madrid
BEGIN:DAYLIGHT
DTSTART:20250330T030000
TZOFFSETFROM:+0100
TZOFFSETTO:+0200
TZNAME:CEST
END:DAYLIGHT
END:VTIMEZONE
END:VCALENDAR