BEGIN:VCALENDAR
VERSION:2.0
PRODID:-//wp-events-plugin.com//7.2.3.1//EN
TZID:Europe/Madrid
X-WR-TIMEZONE:Europe/Madrid
BEGIN:VEVENT
UID:218@aproformacion.com
DTSTART;TZID=Europe/Madrid:20260227T080000
DTEND;TZID=Europe/Madrid:20260227T140000
DTSTAMP:20260216T161116Z
URL:https://aproformacion.com/events/6h-movimiento-de-tierras-4/
SUMMARY:6H Movimiento de tierras
DESCRIPTION:6H Movimiento de tierras \n27/02 – Dia 4 – Especialidad mov
 imiento de tierras – 08:00 a 14:00
END:VEVENT
BEGIN:VTIMEZONE
TZID:Europe/Madrid
X-LIC-LOCATION:Europe/Madrid
BEGIN:STANDARD
DTSTART:20251026T020000
TZOFFSETFROM:+0200
TZOFFSETTO:+0100
TZNAME:CET
END:STANDARD
END:VTIMEZONE
END:VCALENDAR