BEGIN:VCALENDAR
VERSION:2.0
PRODID:-//wp-events-plugin.com//7.2.3.1//EN
TZID:Europe/Madrid
X-WR-TIMEZONE:Europe/Madrid
BEGIN:VEVENT
UID:19@aproformacion.com
DTSTART;TZID=Europe/Madrid:20250822T080000
DTEND;TZID=Europe/Madrid:20250822T140000
DTSTAMP:20250730T112936Z
URL:https://aproformacion.com/events/6h-prefabricados-de-hormigon/
SUMMARY:6H Prefabricados de Hormigón
DESCRIPTION:🏗️ 6H Prefabricados de Hormigón\n\n 	22/08/2025 – 08:00
  a 14:00\n
END:VEVENT
BEGIN:VTIMEZONE
TZID:Europe/Madrid
X-LIC-LOCATION:Europe/Madrid
BEGIN:DAYLIGHT
DTSTART:20250330T030000
TZOFFSETFROM:+0100
TZOFFSETTO:+0200
TZNAME:CEST
END:DAYLIGHT
END:VTIMEZONE
END:VCALENDAR