BEGIN:VCALENDAR
VERSION:2.0
PRODID:-//wp-events-plugin.com//7.2.3.1//EN
TZID:Europe/Madrid
X-WR-TIMEZONE:Europe/Madrid
BEGIN:VEVENT
UID:117@aproformacion.com
DTSTART;TZID=Europe/Madrid:20251113T083000
DTEND;TZID=Europe/Madrid:20251113T143000
DTSTAMP:20251105T125133Z
URL:https://aproformacion.com/events/6h-trabajos-de-cubricion/
SUMMARY:6H Trabajos de cubrición
DESCRIPTION:&nbsp\;\n\n6H Trabajos de cubrición\n\n• 13/11 – Especiali
 dad Albañilería – 08:30 A 14:30
END:VEVENT
BEGIN:VTIMEZONE
TZID:Europe/Madrid
X-LIC-LOCATION:Europe/Madrid
BEGIN:STANDARD
DTSTART:20251026T020000
TZOFFSETFROM:+0200
TZOFFSETTO:+0100
TZNAME:CET
END:STANDARD
END:VTIMEZONE
END:VCALENDAR