BEGIN:VCALENDAR
VERSION:2.0
PRODID:-//wp-events-plugin.com//7.2.3.1//EN
TZID:Europe/Madrid
X-WR-TIMEZONE:Europe/Madrid
BEGIN:VEVENT
UID:293@aproformacion.com
DTSTART;TZID=Europe/Madrid:20260420T090000
DTEND;TZID=Europe/Madrid:20260420T130000
DTSTAMP:20260420T075143Z
URL:https://aproformacion.com/events/6h-trabajos-de-soldadura/
SUMMARY:6H Trabajos de soldadura
DESCRIPTION:🧑‍🏭🔥 6H Trabajos de soldadura\n\n20/04 – Especiali
 dad soldadura 09:00 a 13:00
END:VEVENT
BEGIN:VTIMEZONE
TZID:Europe/Madrid
X-LIC-LOCATION:Europe/Madrid
BEGIN:DAYLIGHT
DTSTART:20260329T030000
TZOFFSETFROM:+0100
TZOFFSETTO:+0200
TZNAME:CEST
END:DAYLIGHT
END:VTIMEZONE
END:VCALENDAR