BEGIN:VCALENDAR
VERSION:2.0
PRODID:-//wp-events-plugin.com//7.2.3.1//EN
TZID:Europe/Madrid
X-WR-TIMEZONE:Europe/Madrid
BEGIN:VEVENT
UID:9@aproformacion.com
DTSTART;TZID=Europe/Madrid:20250729T070000
DTEND;TZID=Europe/Madrid:20250729T150000
DTSTAMP:20250728T123327Z
URL:https://aproformacion.com/events/8h-c-12-mantenimiento-de-maquinaria/
SUMMARY:8H C.12 MANTENIMIENTO DE MAQUINARIA
DESCRIPTION:8H C.12 convenio metal que se realizará entre los días 29 y 3
 0 de Julio en horario de 9:00 a 13:00.
END:VEVENT
BEGIN:VTIMEZONE
TZID:Europe/Madrid
X-LIC-LOCATION:Europe/Madrid
BEGIN:DAYLIGHT
DTSTART:20250330T030000
TZOFFSETFROM:+0100
TZOFFSETTO:+0200
TZNAME:CEST
END:DAYLIGHT
END:VTIMEZONE
END:VCALENDAR