BEGIN:VCALENDAR
VERSION:2.0
PRODID:-//wp-events-plugin.com//7.2.3.1//EN
TZID:Europe/Madrid
X-WR-TIMEZONE:Europe/Madrid
BEGIN:VEVENT
UID:247@aproformacion.com
DTSTART;TZID=Europe/Madrid:20260313T090000
DTEND;TZID=Europe/Madrid:20260313T130000
DTSTAMP:20260312T153003Z
URL:https://aproformacion.com/events/8h-c-9-curso-especifico-para-operario
 s-en-actividades-de-premontaje-montaje-cambio-de-formato-y-ensamblaje-en-f
 abricas/
SUMMARY:8H C.9) Curso específico para operarios en actividades de premonta
 je\, montaje\, cambio de formato y ensamblaje en fábricas.
DESCRIPTION:🏭⚙️ 8H C.9) Curso específico para operarios en activida
 des de premontaje\, montaje\, cambio de formato y ensamblaje en fábricas.
 \n\n13/03 –Especialidad– 09:00 a 13:00\n\n16/03 –Especialidad– 09:
 00 a 13:00
END:VEVENT
BEGIN:VTIMEZONE
TZID:Europe/Madrid
X-LIC-LOCATION:Europe/Madrid
BEGIN:STANDARD
DTSTART:20251026T020000
TZOFFSETFROM:+0200
TZOFFSETTO:+0100
TZNAME:CET
END:STANDARD
END:VTIMEZONE
END:VCALENDAR