BEGIN:VCALENDAR
VERSION:2.0
PRODID:-//wp-events-plugin.com//7.2.3.1//EN
TZID:Europe/Madrid
X-WR-TIMEZONE:Europe/Madrid
BEGIN:VEVENT
UID:199@aproformacion.com
DTSTART;TZID=Europe/Madrid:20260211T090000
DTEND;TZID=Europe/Madrid:20260211T180000
DTSTAMP:20260130T132815Z
URL:https://aproformacion.com/events/8h-c12-trabajos-de-mecanica-mantenimi
 ento-y-reparacion-de-maquinas-equipos-industriales-y-electrodomesticos/
SUMMARY:8H C12 – Trabajos de mecánica\, mantenimiento y reparación de m
 áquinas\, equipos industriales y electrodomésticos
DESCRIPTION:🔩🛠️⚙️ 8H C12 – Trabajos de mecánica\, mantenimie
 nto y reparación de máquinas\, equipos industriales y electrodomésticos
 \n11/02 – Trabajos de mecánica\, mantenimiento y reparación de máquin
 as\, equipos industriales y electrodomésticos – 09:00 a 14:00 y de 15:1
 5 a 18:15
END:VEVENT
BEGIN:VTIMEZONE
TZID:Europe/Madrid
X-LIC-LOCATION:Europe/Madrid
BEGIN:STANDARD
DTSTART:20251026T020000
TZOFFSETFROM:+0200
TZOFFSETTO:+0100
TZNAME:CET
END:STANDARD
END:VTIMEZONE
END:VCALENDAR