BEGIN:VCALENDAR
VERSION:2.0
PRODID:-//wp-events-plugin.com//7.2.3.1//EN
TZID:Europe/Madrid
X-WR-TIMEZONE:Europe/Madrid
BEGIN:VEVENT
UID:260@aproformacion.com
DTSTART;TZID=Europe/Madrid:20260331T080000
DTEND;TZID=Europe/Madrid:20260331T170000
DTSTAMP:20260312T154415Z
URL:https://aproformacion.com/events/8h-c13-trabajos-en-talleres-de-repara
 cion-de-vehiculos/
SUMMARY:8H C13 – Trabajos en Talleres de Reparación de Vehículos 
DESCRIPTION:8H 🚗🔧C13 – Trabajos en Talleres de Reparación de Veh
 ículos\n31/03 – Dia 4 – Especialidad - de 08:00 a 14:00 y de 15:00 a
  17:00
END:VEVENT
BEGIN:VTIMEZONE
TZID:Europe/Madrid
X-LIC-LOCATION:Europe/Madrid
BEGIN:DAYLIGHT
DTSTART:20260329T030000
TZOFFSETFROM:+0100
TZOFFSETTO:+0200
TZNAME:CEST
END:DAYLIGHT
END:VTIMEZONE
END:VCALENDAR