BEGIN:VCALENDAR
VERSION:2.0
PRODID:-//wp-events-plugin.com//7.2.3.1//EN
TZID:Europe/Madrid
X-WR-TIMEZONE:Europe/Madrid
BEGIN:VEVENT
UID:16@aproformacion.com
DTSTART;TZID=Europe/Madrid:20250813T090000
DTEND;TZID=Europe/Madrid:20250813T130000
DTSTAMP:20250730T112611Z
URL:https://aproformacion.com/events/8h-c8-tratamientos-superficiales-del-
 metal/
SUMMARY:8H C8 Tratamientos Superficiales del Metal
DESCRIPTION:🏗️ 8H Especialidad C8 – Tratamientos Superficiales del M
 etal\n\n 	13/08/2025 – 08:00 a 16:00\n
END:VEVENT
BEGIN:VTIMEZONE
TZID:Europe/Madrid
X-LIC-LOCATION:Europe/Madrid
BEGIN:DAYLIGHT
DTSTART:20250330T030000
TZOFFSETFROM:+0100
TZOFFSETTO:+0200
TZNAME:CEST
END:DAYLIGHT
END:VTIMEZONE
END:VCALENDAR