BEGIN:VCALENDAR
VERSION:2.0
PRODID:-//wp-events-plugin.com//7.2.3.1//EN
TZID:Europe/Madrid
X-WR-TIMEZONE:Europe/Madrid
BEGIN:VEVENT
UID:26@aproformacion.com
DTSTART;TZID=Europe/Madrid:20250826T090000
DTEND;TZID=Europe/Madrid:20250826T130000
DTSTAMP:20250818T152144Z
URL:https://aproformacion.com/events/8h-especialidad-c4-operarios-en-traba
 jos-de-soldadura-y-oxicorte/
SUMMARY:8H Especialidad C4 Operarios en trabajos de soldadura y oxicorte
DESCRIPTION:🔧 8H Especialidad C4\nOperarios en trabajos de soldadura y o
 xicorte\n• 26/08 – 09:00 a 13:00\n• 27/08 – 09:00 a 13:00
END:VEVENT
BEGIN:VTIMEZONE
TZID:Europe/Madrid
X-LIC-LOCATION:Europe/Madrid
BEGIN:DAYLIGHT
DTSTART:20250330T030000
TZOFFSETFROM:+0100
TZOFFSETTO:+0200
TZNAME:CEST
END:DAYLIGHT
END:VTIMEZONE
END:VCALENDAR