BEGIN:VCALENDAR
VERSION:2.0
PRODID:-//wp-events-plugin.com//7.2.3.1//EN
TZID:Europe/Madrid
X-WR-TIMEZONE:Europe/Madrid
BEGIN:VEVENT
UID:292@aproformacion.com
DTSTART;TZID=Europe/Madrid:20260420T080000
DTEND;TZID=Europe/Madrid:20260420T120000
DTSTAMP:20260420T075105Z
URL:https://aproformacion.com/events/8h-operado-puente-grua/
SUMMARY:8H Operado puente grúa
DESCRIPTION:🏗️👷‍♂️🎮 8H Operado puente grúa\n\n20/04 – E
 specialidad Operador puente grúa 08:00 a 12:00
END:VEVENT
BEGIN:VTIMEZONE
TZID:Europe/Madrid
X-LIC-LOCATION:Europe/Madrid
BEGIN:DAYLIGHT
DTSTART:20260329T030000
TZOFFSETFROM:+0100
TZOFFSETTO:+0200
TZNAME:CEST
END:DAYLIGHT
END:VTIMEZONE
END:VCALENDAR