BEGIN:VCALENDAR
VERSION:2.0
PRODID:-//wp-events-plugin.com//7.2.3.1//EN
TZID:Europe/Madrid
X-WR-TIMEZONE:Europe/Madrid
BEGIN:VEVENT
UID:69@aproformacion.com
DTSTART;TZID=Europe/Madrid:20250930T070000
DTEND;TZID=Europe/Madrid:20250930T150000
DTSTAMP:20250925T160650Z
URL:https://aproformacion.com/events/8h-soldadura-y-oxicorte/
SUMMARY:8H SOLDADURA Y OXICORTE
DESCRIPTION:• 30/09 – Especialidad Soldadura y oxicorte – 07:00 a 15:
 00
END:VEVENT
BEGIN:VTIMEZONE
TZID:Europe/Madrid
X-LIC-LOCATION:Europe/Madrid
BEGIN:DAYLIGHT
DTSTART:20250330T030000
TZOFFSETFROM:+0100
TZOFFSETTO:+0200
TZNAME:CEST
END:DAYLIGHT
END:VTIMEZONE
END:VCALENDAR