BEGIN:VCALENDAR
VERSION:2.0
PRODID:-//wp-events-plugin.com//7.2.3.1//EN
TZID:Europe/Madrid
X-WR-TIMEZONE:Europe/Madrid
BEGIN:VEVENT
UID:41@aproformacion.com
DTSTART;TZID=Europe/Madrid:20250910T090000
DTEND;TZID=Europe/Madrid:20250910T140000
DTSTAMP:20250829T123419Z
URL:https://aproformacion.com/events/8h-trabos-en-altura/
SUMMARY:8H TRABOS EN ALTURA
DESCRIPTION:• 10/09 – Trabajos en Altura – 09:00 a 14:00
END:VEVENT
BEGIN:VTIMEZONE
TZID:Europe/Madrid
X-LIC-LOCATION:Europe/Madrid
BEGIN:DAYLIGHT
DTSTART:20250330T030000
TZOFFSETFROM:+0100
TZOFFSETTO:+0200
TZNAME:CEST
END:DAYLIGHT
END:VTIMEZONE
END:VCALENDAR