BEGIN:VCALENDAR
VERSION:2.0
PRODID:-//wp-events-plugin.com//7.2.3.1//EN
TZID:Europe/Madrid
X-WR-TIMEZONE:Europe/Madrid
BEGIN:VEVENT
UID:100@aproformacion.com
DTSTART;TZID=Europe/Madrid:20251028T140000
DTEND;TZID=Europe/Madrid:20251028T190000
DTSTAMP:20251008T141104Z
URL:https://aproformacion.com/events/altura-2/
SUMMARY:Altura
DESCRIPTION:Altura\n\n⭐ 28/10 – Altura – 14:00 A 19:00
END:VEVENT
BEGIN:VTIMEZONE
TZID:Europe/Madrid
X-LIC-LOCATION:Europe/Madrid
BEGIN:STANDARD
DTSTART:20251026T020000
TZOFFSETFROM:+0200
TZOFFSETTO:+0100
TZNAME:CET
END:STANDARD
END:VTIMEZONE
END:VCALENDAR