BEGIN:VCALENDAR
VERSION:2.0
PRODID:-//wp-events-plugin.com//7.2.3.1//EN
TZID:Europe/Madrid
X-WR-TIMEZONE:Europe/Madrid
BEGIN:VEVENT
UID:141@aproformacion.com
DTSTART;TZID=Europe/Madrid:20251126T150000
DTEND;TZID=Europe/Madrid:20251126T190000
DTSTAMP:20251125T090856Z
URL:https://aproformacion.com/events/altura-3/
SUMMARY:Altura
DESCRIPTION:Altura\n\n⭐ 26/11 – Altura – 15:00 A 19:00
END:VEVENT
BEGIN:VTIMEZONE
TZID:Europe/Madrid
X-LIC-LOCATION:Europe/Madrid
BEGIN:STANDARD
DTSTART:20251026T020000
TZOFFSETFROM:+0200
TZOFFSETTO:+0100
TZNAME:CET
END:STANDARD
END:VTIMEZONE
END:VCALENDAR