BEGIN:VCALENDAR
VERSION:2.0
PRODID:-//wp-events-plugin.com//7.2.3.1//EN
TZID:Europe/Madrid
X-WR-TIMEZONE:Europe/Madrid
BEGIN:VEVENT
UID:82@aproformacion.com
DTSTART;TZID=Europe/Madrid:20251008T090000
DTEND;TZID=Europe/Madrid:20251008T140000
DTSTAMP:20250925T161912Z
URL:https://aproformacion.com/events/altura/
SUMMARY:Altura
DESCRIPTION:Altura\n\n⭐ 08/10 – Altura – 09:00 a 14:00
END:VEVENT
BEGIN:VTIMEZONE
TZID:Europe/Madrid
X-LIC-LOCATION:Europe/Madrid
BEGIN:DAYLIGHT
DTSTART:20250330T030000
TZOFFSETFROM:+0100
TZOFFSETTO:+0200
TZNAME:CEST
END:DAYLIGHT
END:VTIMEZONE
END:VCALENDAR