BEGIN:VCALENDAR
VERSION:2.0
PRODID:-//wp-events-plugin.com//7.2.3.1//EN
TZID:Europe/Madrid
X-WR-TIMEZONE:Europe/Madrid
BEGIN:VEVENT
UID:144@aproformacion.com
DTSTART;TZID=Europe/Madrid:20251205T140000
DTEND;TZID=Europe/Madrid:20251205T200000
DTSTAMP:20251202T165039Z
URL:https://aproformacion.com/events/aparatos-elevadores-2/
SUMMARY:Aparatos elevadores
DESCRIPTION:⭐ Plataformas elevadoras (Convenio)\n\n•05/12 – Especial
 idad plataformas Elevadoras – 14:00 A 20:00
END:VEVENT
BEGIN:VTIMEZONE
TZID:Europe/Madrid
X-LIC-LOCATION:Europe/Madrid
BEGIN:STANDARD
DTSTART:20251026T020000
TZOFFSETFROM:+0200
TZOFFSETTO:+0100
TZNAME:CET
END:STANDARD
END:VTIMEZONE
END:VCALENDAR