BEGIN:VCALENDAR
VERSION:2.0
PRODID:-//wp-events-plugin.com//7.2.3.1//EN
TZID:Europe/Madrid
X-WR-TIMEZONE:Europe/Madrid
BEGIN:VEVENT
UID:44@aproformacion.com
DTSTART;TZID=Europe/Madrid:20250915T083000
DTEND;TZID=Europe/Madrid:20250915T143000
DTSTAMP:20250829T123900Z
URL:https://aproformacion.com/events/aparatos-elevadores/
SUMMARY:APARATOS ELEVADORES
DESCRIPTION:• 15/09 – Especialidad Aparatos Elevadores – 08:30 a 14:3
 0
END:VEVENT
BEGIN:VTIMEZONE
TZID:Europe/Madrid
X-LIC-LOCATION:Europe/Madrid
BEGIN:DAYLIGHT
DTSTART:20250330T030000
TZOFFSETFROM:+0100
TZOFFSETTO:+0200
TZNAME:CEST
END:DAYLIGHT
END:VTIMEZONE
END:VCALENDAR