BEGIN:VCALENDAR
VERSION:2.0
PRODID:-//wp-events-plugin.com//7.2.3.1//EN
TZID:Europe/Madrid
X-WR-TIMEZONE:Europe/Madrid
BEGIN:VEVENT
UID:45@aproformacion.com
DTSTART;TZID=Europe/Madrid:20250916T153000
DTEND;TZID=Europe/Madrid:20250916T193000
DTSTAMP:20250829T124042Z
URL:https://aproformacion.com/events/apartos-elevadores-practico/
SUMMARY:APARTOS ELEVADORES PRACTICO
DESCRIPTION:16/09 – Práctica Aparatos Elevadores – 15:30 a 19:30
END:VEVENT
BEGIN:VTIMEZONE
TZID:Europe/Madrid
X-LIC-LOCATION:Europe/Madrid
BEGIN:DAYLIGHT
DTSTART:20250330T030000
TZOFFSETFROM:+0100
TZOFFSETTO:+0200
TZNAME:CEST
END:DAYLIGHT
END:VTIMEZONE
END:VCALENDAR