BEGIN:VCALENDAR
VERSION:2.0
PRODID:-//wp-events-plugin.com//7.2.3.1//EN
TZID:Europe/Madrid
X-WR-TIMEZONE:Europe/Madrid
BEGIN:VEVENT
UID:85@aproformacion.com
DTSTART;TZID=Europe/Madrid:20251022T080000
DTEND;TZID=Europe/Madrid:20251022T160000
DTSTAMP:20251008T135934Z
URL:https://aproformacion.com/events/c12-8h-reparacion-de-maquinaria/
SUMMARY:C12 8H REPARACIÓN DE MAQUINARIA
DESCRIPTION:C12 8H REPARACIÓN DE MAQUINARIA\nReparación de maquinaria –
  08:00 a 16:00
END:VEVENT
BEGIN:VTIMEZONE
TZID:Europe/Madrid
X-LIC-LOCATION:Europe/Madrid
BEGIN:DAYLIGHT
DTSTART:20250330T030000
TZOFFSETFROM:+0100
TZOFFSETTO:+0200
TZNAME:CEST
END:DAYLIGHT
END:VTIMEZONE
END:VCALENDAR