BEGIN:VCALENDAR
VERSION:2.0
PRODID:-//wp-events-plugin.com//7.2.3.1//EN
TZID:Europe/Madrid
X-WR-TIMEZONE:Europe/Madrid
BEGIN:VEVENT
UID:110@aproformacion.com
DTSTART;TZID=Europe/Madrid:20251117T090000
DTEND;TZID=Europe/Madrid:20251117T183000
DTSTAMP:20251105T124432Z
URL:https://aproformacion.com/events/c23-8h-montador-de-placas-solares/
SUMMARY:C23 8H Montador de placas solares
DESCRIPTION:C23 8H Montador de placas solares\n• 17/11 – Especialidad c
 arpintería metálica – 09:00 a 14:00 y de 15:30 a 18:30
END:VEVENT
BEGIN:VTIMEZONE
TZID:Europe/Madrid
X-LIC-LOCATION:Europe/Madrid
BEGIN:STANDARD
DTSTART:20251026T020000
TZOFFSETFROM:+0200
TZOFFSETTO:+0100
TZNAME:CET
END:STANDARD
END:VTIMEZONE
END:VCALENDAR