BEGIN:VCALENDAR
VERSION:2.0
PRODID:-//wp-events-plugin.com//7.2.3.1//EN
TZID:Europe/Madrid
X-WR-TIMEZONE:Europe/Madrid
BEGIN:VEVENT
UID:83@aproformacion.com
DTSTART;TZID=Europe/Madrid:20251020T070000
DTEND;TZID=Europe/Madrid:20251020T150000
DTSTAMP:20251008T135739Z
URL:https://aproformacion.com/events/c4-8h-soldadura-y-oxicorte/
SUMMARY:C4 8H Soldadura y oxicorte
DESCRIPTION:C4 8H Soldadura y oxicorte\n• 20/10 – Especialidad Soldadur
 a y oxicorte – 07:00 a 15:00
END:VEVENT
BEGIN:VTIMEZONE
TZID:Europe/Madrid
X-LIC-LOCATION:Europe/Madrid
BEGIN:DAYLIGHT
DTSTART:20250330T030000
TZOFFSETFROM:+0100
TZOFFSETTO:+0200
TZNAME:CEST
END:DAYLIGHT
END:VTIMEZONE
END:VCALENDAR