BEGIN:VCALENDAR
VERSION:2.0
PRODID:-//wp-events-plugin.com//7.2.3.1//EN
TZID:Europe/Madrid
X-WR-TIMEZONE:Europe/Madrid
BEGIN:VEVENT
UID:143@aproformacion.com
DTSTART;TZID=Europe/Madrid:20251205T083000
DTEND;TZID=Europe/Madrid:20251205T163000
DTSTAMP:20251202T164949Z
URL:https://aproformacion.com/events/c4-trabajos-de-soldadura-y-oxicorte/
SUMMARY:C4 Trabajos de soldadura y oxicorte
DESCRIPTION:4H Trabajos de soldadura y oxicorte\n\n•  05/12 – Especi
 alidad Trabajos de soldadura y oxicorte – 08:30 A 16:30.
END:VEVENT
BEGIN:VTIMEZONE
TZID:Europe/Madrid
X-LIC-LOCATION:Europe/Madrid
BEGIN:STANDARD
DTSTART:20251026T020000
TZOFFSETFROM:+0200
TZOFFSETTO:+0100
TZNAME:CET
END:STANDARD
END:VTIMEZONE
END:VCALENDAR