BEGIN:VCALENDAR
VERSION:2.0
PRODID:-//wp-events-plugin.com//7.2.3.1//EN
TZID:Europe/Madrid
X-WR-TIMEZONE:Europe/Madrid
BEGIN:VEVENT
UID:137@aproformacion.com
DTSTART;TZID=Europe/Madrid:20251213T083000
DTEND;TZID=Europe/Madrid:20251213T143000
DTSTAMP:20251125T090531Z
URL:https://aproformacion.com/events/carretillas-elevadoras-2/
SUMMARY:Carretillas Elevadoras
DESCRIPTION:⭐ Carretillas Elevadoras\n\n⭐ 13/12 – Carretillas Eleva
 doras – 08:30 A 14:30
END:VEVENT
BEGIN:VTIMEZONE
TZID:Europe/Madrid
X-LIC-LOCATION:Europe/Madrid
BEGIN:STANDARD
DTSTART:20251026T020000
TZOFFSETFROM:+0200
TZOFFSETTO:+0100
TZNAME:CET
END:STANDARD
END:VTIMEZONE
END:VCALENDAR