BEGIN:VCALENDAR
VERSION:2.0
PRODID:-//wp-events-plugin.com//7.2.3.1//EN
TZID:Europe/Madrid
X-WR-TIMEZONE:Europe/Madrid
BEGIN:VEVENT
UID:81@aproformacion.com
DTSTART;TZID=Europe/Madrid:20251018T083000
DTEND;TZID=Europe/Madrid:20251018T143000
DTSTAMP:20250925T161748Z
URL:https://aproformacion.com/events/carretillas-elevadoras-3/
SUMMARY:Carretillas Elevadoras
DESCRIPTION:⭐ Carretillas Elevadoras\n\n⭐ 18/10 – Carretillas Elevad
 oras – 08:30 a 14:30
END:VEVENT
BEGIN:VTIMEZONE
TZID:Europe/Madrid
X-LIC-LOCATION:Europe/Madrid
BEGIN:DAYLIGHT
DTSTART:20250330T030000
TZOFFSETFROM:+0100
TZOFFSETTO:+0200
TZNAME:CEST
END:DAYLIGHT
END:VTIMEZONE
END:VCALENDAR