BEGIN:VCALENDAR
VERSION:2.0
PRODID:-//wp-events-plugin.com//7.2.3.1//EN
TZID:Europe/Madrid
X-WR-TIMEZONE:Europe/Madrid
BEGIN:VEVENT
UID:175@aproformacion.com
DTSTART;TZID=Europe/Madrid:20260124T083000
DTEND;TZID=Europe/Madrid:20260124T143000
DTSTAMP:20260107T121653Z
URL:https://aproformacion.com/events/carretillas-elevadoras-4/
SUMMARY:Carretillas Elevadoras
DESCRIPTION:⭐ Carretillas Elevadoras\n\n⭐ 24/01 – Carretillas Eleva
 doras – 08:30 a 14:30
END:VEVENT
BEGIN:VTIMEZONE
TZID:Europe/Madrid
X-LIC-LOCATION:Europe/Madrid
BEGIN:STANDARD
DTSTART:20251026T020000
TZOFFSETFROM:+0200
TZOFFSETTO:+0100
TZNAME:CET
END:STANDARD
END:VTIMEZONE
END:VCALENDAR