BEGIN:VCALENDAR
VERSION:2.0
PRODID:-//wp-events-plugin.com//7.2.3.1//EN
TZID:Europe/Madrid
X-WR-TIMEZONE:Europe/Madrid
BEGIN:VEVENT
UID:245@aproformacion.com
DTSTART;TZID=Europe/Madrid:20260328T070000
DTEND;TZID=Europe/Madrid:20260328T150000
DTSTAMP:20260312T152736Z
URL:https://aproformacion.com/events/carretillas-elevadoras-sabado/
SUMMARY:Carretillas elevadoras (sábado)
DESCRIPTION:🚜📦⚠️ Carretillas elevadoras (sábado)\n\n28/03 – 07
 :00 a 15:00
END:VEVENT
BEGIN:VTIMEZONE
TZID:Europe/Madrid
X-LIC-LOCATION:Europe/Madrid
BEGIN:STANDARD
DTSTART:20251026T020000
TZOFFSETFROM:+0200
TZOFFSETTO:+0100
TZNAME:CET
END:STANDARD
END:VTIMEZONE
END:VCALENDAR