BEGIN:VCALENDAR
VERSION:2.0
PRODID:-//wp-events-plugin.com//7.2.3.1//EN
TZID:Europe/Madrid
X-WR-TIMEZONE:Europe/Madrid
BEGIN:VEVENT
UID:52@aproformacion.com
DTSTART;TZID=Europe/Madrid:20250920T083000
DTEND;TZID=Europe/Madrid:20250920T143000
DTSTAMP:20250905T101206Z
URL:https://aproformacion.com/events/carretillas-elevadoras-teorico-practi
 co/
SUMMARY:CARRETILLAS ELEVADORAS TEORICO - PRACTICO
DESCRIPTION:CARRETILLAS ELEVADORAS TEORICO - PRACTICO\n\nDIA 20/09/2025 DE 
 08:30 A 14:30
END:VEVENT
BEGIN:VTIMEZONE
TZID:Europe/Madrid
X-LIC-LOCATION:Europe/Madrid
BEGIN:DAYLIGHT
DTSTART:20250330T030000
TZOFFSETFROM:+0100
TZOFFSETTO:+0200
TZNAME:CEST
END:DAYLIGHT
END:VTIMEZONE
END:VCALENDAR