BEGIN:VCALENDAR
VERSION:2.0
PRODID:-//wp-events-plugin.com//7.2.3.1//EN
TZID:Europe/Madrid
X-WR-TIMEZONE:Europe/Madrid
BEGIN:VEVENT
UID:64@aproformacion.com
DTSTART;TZID=Europe/Madrid:20251004T083000
DTEND;TZID=Europe/Madrid:20251004T143000
DTSTAMP:20250920T074431Z
URL:https://aproformacion.com/events/carretillas-elevadoras/
SUMMARY:CARRETILLAS ELEVADORAS
DESCRIPTION:04/10 DE 08:30 A 13:300:00
END:VEVENT
BEGIN:VTIMEZONE
TZID:Europe/Madrid
X-LIC-LOCATION:Europe/Madrid
BEGIN:DAYLIGHT
DTSTART:20250330T030000
TZOFFSETFROM:+0100
TZOFFSETTO:+0200
TZNAME:CEST
END:DAYLIGHT
END:VTIMEZONE
END:VCALENDAR