BEGIN:VCALENDAR
VERSION:2.0
PRODID:-//wp-events-plugin.com//7.2.3.1//EN
TZID:Europe/Madrid
X-WR-TIMEZONE:Europe/Madrid
BEGIN:VEVENT
UID:98@aproformacion.com
DTSTART;TZID=Europe/Madrid:20251021T083000
DTEND;TZID=Europe/Madrid:20251021T143000
DTSTAMP:20251008T140953Z
URL:https://aproformacion.com/events/plataformas-elevadoras-convenio/
SUMMARY:Plataformas elevadoras (Convenio)
DESCRIPTION:⭐ Plataformas elevadoras (Convenio)\n\n• 21/10 – Especia
 lidad plataformas Elevadoras – 08:30 a 14:30
END:VEVENT
BEGIN:VTIMEZONE
TZID:Europe/Madrid
X-LIC-LOCATION:Europe/Madrid
BEGIN:DAYLIGHT
DTSTART:20250330T030000
TZOFFSETFROM:+0100
TZOFFSETTO:+0200
TZNAME:CEST
END:DAYLIGHT
END:VTIMEZONE
END:VCALENDAR