BEGIN:VCALENDAR
VERSION:2.0
PRODID:-//wp-events-plugin.com//7.2.3.1//EN
TZID:Europe/Madrid
X-WR-TIMEZONE:Europe/Madrid
BEGIN:VEVENT
UID:99@aproformacion.com
DTSTART;TZID=Europe/Madrid:20251021T150000
DTEND;TZID=Europe/Madrid:20251021T203000
DTSTAMP:20251008T141032Z
URL:https://aproformacion.com/events/plataformas-elevadoras-practico/
SUMMARY:Plataformas elevadoras (Practico)
DESCRIPTION:⭐ Plataformas elevadoras (Practico)\n\n•21/10 – Especial
 idad plataformas Elevadoras – 15:30 a 20:30
END:VEVENT
BEGIN:VTIMEZONE
TZID:Europe/Madrid
X-LIC-LOCATION:Europe/Madrid
BEGIN:DAYLIGHT
DTSTART:20250330T030000
TZOFFSETFROM:+0100
TZOFFSETTO:+0200
TZNAME:CEST
END:DAYLIGHT
END:VTIMEZONE
END:VCALENDAR