BEGIN:VCALENDAR
VERSION:2.0
PRODID:-//wp-events-plugin.com//7.2.3.1//EN
TZID:Europe/Madrid
X-WR-TIMEZONE:Europe/Madrid
BEGIN:VEVENT
UID:140@aproformacion.com
DTSTART;TZID=Europe/Madrid:20251211T153000
DTEND;TZID=Europe/Madrid:20251211T203000
DTSTAMP:20251125T090810Z
URL:https://aproformacion.com/events/plataformas-elevadoras-teorico-practi
 co/
SUMMARY:Plataformas elevadoras (TEORICO – PRACTICO)
DESCRIPTION:⭐ Plataformas elevadoras (TEORICO – PRACTICO)\n\n•11/12 
 – Especialidad plataformas Elevadoras – 15:30 A 20:30
END:VEVENT
BEGIN:VTIMEZONE
TZID:Europe/Madrid
X-LIC-LOCATION:Europe/Madrid
BEGIN:STANDARD
DTSTART:20251026T020000
TZOFFSETFROM:+0200
TZOFFSETTO:+0100
TZNAME:CET
END:STANDARD
END:VTIMEZONE
END:VCALENDAR