BEGIN:VCALENDAR
VERSION:2.0
PRODID:-//wp-events-plugin.com//7.2.3.1//EN
TZID:Europe/Madrid
X-WR-TIMEZONE:Europe/Madrid
BEGIN:VEVENT
UID:63@aproformacion.com
DTSTART;TZID=Europe/Madrid:20250930T090000
DTEND;TZID=Europe/Madrid:20250930T140000
DTSTAMP:20250920T074207Z
URL:https://aproformacion.com/events/trabajos-en-altura-3/
SUMMARY:TRABAJOS EN ALTURA
DESCRIPTION:• 30/09 – 09:00 09:00 A 14:00\n\n
END:VEVENT
BEGIN:VTIMEZONE
TZID:Europe/Madrid
X-LIC-LOCATION:Europe/Madrid
BEGIN:DAYLIGHT
DTSTART:20250330T030000
TZOFFSETFROM:+0100
TZOFFSETTO:+0200
TZNAME:CEST
END:DAYLIGHT
END:VTIMEZONE
END:VCALENDAR