BEGIN:VCALENDAR
VERSION:2.0
PRODID:-//wp-events-plugin.com//7.2.3.1//EN
TZID:Europe/Madrid
X-WR-TIMEZONE:Europe/Madrid
BEGIN:VEVENT
UID:195@aproformacion.com
DTSTART;TZID=Europe/Madrid:20260205T090000
DTEND;TZID=Europe/Madrid:20260205T140000
DTSTAMP:20260130T132511Z
URL:https://aproformacion.com/events/trabajos-en-altura-4/
SUMMARY:Trabajos en altura
DESCRIPTION:Trabajos en altura\n05/02 – Altura – 09:00 a 14:00
END:VEVENT
BEGIN:VTIMEZONE
TZID:Europe/Madrid
X-LIC-LOCATION:Europe/Madrid
BEGIN:STANDARD
DTSTART:20251026T020000
TZOFFSETFROM:+0200
TZOFFSETTO:+0100
TZNAME:CET
END:STANDARD
END:VTIMEZONE
END:VCALENDAR