BEGIN:VCALENDAR
VERSION:2.0
PRODID:-//wp-events-plugin.com//7.2.3.1//EN
TZID:Europe/Madrid
X-WR-TIMEZONE:Europe/Madrid
BEGIN:VEVENT
UID:14@aproformacion.com
DTSTART;TZID=Europe/Madrid:20250811T080000
DTEND;TZID=Europe/Madrid:20250811T150000
DTSTAMP:20250730T113620Z
URL:https://aproformacion.com/events/trabajos-en-altura/
SUMMARY:20H C8 Tratamientos Superficiales del Metal
DESCRIPTION:\n 	11/08/2025 – Día 1: 08:00 a 15:00\n 	12/08/2025 – Día
  2: 08:00 a 15:00\n 	13/08/2025 – Día 3 (Especialidad 8H): 08:00 a 16:0
 0\n
END:VEVENT
BEGIN:VTIMEZONE
TZID:Europe/Madrid
X-LIC-LOCATION:Europe/Madrid
BEGIN:DAYLIGHT
DTSTART:20250330T030000
TZOFFSETFROM:+0100
TZOFFSETTO:+0200
TZNAME:CEST
END:DAYLIGHT
END:VTIMEZONE
END:VCALENDAR